BEGIN:VCALENDAR
VERSION:2.0
PRODID:-//Charitable Advisors - ECPv6.15.18//NONSGML v1.0//EN
CALSCALE:GREGORIAN
METHOD:PUBLISH
X-WR-CALNAME:Charitable Advisors
X-ORIGINAL-URL:https://charitableadvisors.com
X-WR-CALDESC:Events for Charitable Advisors
REFRESH-INTERVAL;VALUE=DURATION:PT1H
X-Robots-Tag:noindex
X-PUBLISHED-TTL:PT1H
BEGIN:VTIMEZONE
TZID:America/Indiana/Indianapolis
BEGIN:DAYLIGHT
TZOFFSETFROM:-0500
TZOFFSETTO:-0400
TZNAME:EDT
DTSTART:20250309T070000
END:DAYLIGHT
BEGIN:STANDARD
TZOFFSETFROM:-0400
TZOFFSETTO:-0500
TZNAME:EST
DTSTART:20251102T060000
END:STANDARD
BEGIN:DAYLIGHT
TZOFFSETFROM:-0500
TZOFFSETTO:-0400
TZNAME:EDT
DTSTART:20260308T070000
END:DAYLIGHT
BEGIN:STANDARD
TZOFFSETFROM:-0400
TZOFFSETTO:-0500
TZNAME:EST
DTSTART:20261101T060000
END:STANDARD
BEGIN:DAYLIGHT
TZOFFSETFROM:-0500
TZOFFSETTO:-0400
TZNAME:EDT
DTSTART:20270314T070000
END:DAYLIGHT
BEGIN:STANDARD
TZOFFSETFROM:-0400
TZOFFSETTO:-0500
TZNAME:EST
DTSTART:20271107T060000
END:STANDARD
END:VTIMEZONE
BEGIN:VEVENT
DTSTART;TZID=America/Indiana/Indianapolis:20260421T100000
DTEND;TZID=America/Indiana/Indianapolis:20260421T110000
DTSTAMP:20260421T070548
CREATED:20260410T134749Z
LAST-MODIFIED:20260410T134749Z
UID:9843-1776765600-1776769200@charitableadvisors.com
SUMMARY:Healthcare Philanthropy: Unlocking Growth Opportunities
DESCRIPTION:With more than $60 billion in annual contributions\, healthcare is a vital part of the U.S. philanthropic landscape. Examine the forces shaping donor behavior\, and how those dynamics are influencing healthcare’s share of giving.
URL:https://charitableadvisors.com/event/healthcare-philanthropy-unlocking-growth-opportunities/
LOCATION:Webinar
END:VEVENT
END:VCALENDAR